Workbook

Sheet Iron and Steel
A2: Build America, Buy America Construction Materials and Manufactured Products Spreadsheet
A3: Products covered under the Buy America Preference
A5: Project Name:
A6: Project Address:
A7: Project APN#:
A8: Date:
A9: Product Classification: IRON AND STEEL Items that consist completely or predominately or iron, steel, or a combination of both. "Predominantly" means the cost of the iron and steel content is 51% or more of the total cost of all the item's components.
A10: All manufacturing processes, starting from the initial melting stage and continuing through the application of coatings, must occur in the United States.
A12: Item Description | B12: Total Material Cost | C12: Is the Material BABA Compliant? | D12: Reason for Non-Compliance (if applicable) | E12: If you answered "Other" for reason for non-compliance provide additional detail
D26: Iron and Steel Totals: | E26: =SUM(B:B) -> 0
D27: Non-Compliant Totals: | E27: =SUMIF(C:C,"=No",B:B) -> 0
A29: BABA Compliance Documentation: | B29: Owners/Developers should maintain the following product records on file:
B30: 1. Manufacturer Certification Letters
B31: 2. Purchase Orders, Invoices, and Bills of Lading, to include the origin and quantity
B32: 3. Product Labels - a photo of the label will suffice if the actual label cannot be retained
B33: 4. Self-Certifications

Sheet Construction Materials
A2: Build America, Buy America Construction Materials and Manufactured Products Spreadsheet
A3: Products covered under the Buy America Preference
A5: Project Name: | C5: ='Iron and Steel'!C5 -> 0
A6: Project Address: | C6: ='Iron and Steel'!C6 -> 0
A7: Project APN#: | C7: ='Iron and Steel'!C7 -> 0
A8: Date: | C8: ='Iron and Steel'!C8 -> 0
A9: Product Classification: CONSTRUCTION MATERIALS Contruction Materials include: non-ferrous metals, lumber, plastic- and polymer-based products (including polyvinylchloride, composite building materials and polymers used in fiber optic cables, pipe and tube, glass (including optic glass), fiber optic cable (including drop cable), optical fiber, engineered wood, and drywall.
A10: All manufacturing processes must occur in the United States. Minor additions of articles, materials, supplies, or binding agents to a construction material do not change the categorization of the material.
A12: Item Description | B12: Total Material Cost | C12: Is the Material BABA Compliant? | D12: Reason for Non-Compliance (if applicable) | E12: If you answered "Other" for reason for non-compliance provide additional detail
D43: Construction Materials Totals: | E43: =SUM(B:B) -> 0
D44: Non-Compliant Totals: | E44: =SUMIF(C:C,"=No",B:B) -> 0
A46: BABA Compliance Documentation: | B46: Owners/Developers should maintain the following product records on file:
B47: 1. Manufacturer Certification Letters
B48: 2. Purchase Orders, Invoices, and Bills of Lading, to include the origin and quantity
B49: 3. Product Labels - a photo of the label will suffice if the actual label cannot be retained
B50: 4. Self-Certifications

Sheet Manufactured Products
A2: Build America, Buy America Construction Materials and Manufactured Products Spreadsheet
A3: Products covered under the Buy America Preference
A5: Project Name: | C5: ='Iron and Steel'!C5 -> 0
A6: Project Address: | C6: ='Iron and Steel'!C6 -> 0
A7: Project APN#: | C7: ='Iron and Steel'!C7 -> 0
A8: Date: | C8: ='Iron and Steel'!C8 -> 0
A9: Product Classification: MANUFACTURED PRODUCTS Manufactured Products include articles, materials, or supplies that have either been (a) processed into a specific form or shape; or (b) have been combined with other articles, materials, or supplies to create a product with different properties. A manufactured product may include components that are construction materials or iron and steel products, unless the manufactured product also meets the definition of iron or steel or constrution materials. In such instances the product should be reclassified into the appropriate category. *Please note the BAP does not apply to household appliances, such as stoves, dishwashers, microwaves, refrigerators, and washing machines. The BAP only applies to articles, materials, and supplies that are consumed in, incorporated into, or affixed to an infrastructure project. Household appliances are generally considered building contents.*
A10: Manufactured products must meet two production requirements: (1) the final product must be manufactured in the United States AND (2) at least 55% of the cost of the product must come from components that were mined, produced, or manufactured in the United States.
A11: Item Description | B11: Total Material Cost | C11: Is the Material BABA Compliant? | D11: Reason for Non-Compliance (if applicable) | E11: If you answered "Other" for reason for non-compliance provide additional detail
D42: Manufactured Products Totals: | E42: =SUM(B:B) -> 0
D43: Non-Compliant Totals: | E43: =SUMIF(C:C,"=No",B:B) -> 0
A45: BABA Compliance Documentation: | B45: Owners/Developers should maintain the following product records on file:
B46: 1. Manufacturer Certification Letters
B47: 2. Purchase Orders, Invoices, and Bills of Lading, to include the origin and quantity
B48: 3. Product Labels - a photo of the label will suffice if the actual label cannot be retained
B49: 4. Self-Certifications

Sheet Totals
A1: TOTALS
A2: Total Iron and Steel Cost | B2: ='Iron and Steel'!E26 -> 0
A3: Total Construction Materials Cost | B3: ='Construction Materials'!E43 -> 0
A4: Total Manufactured Products Cost | B4: ='Manufactured Products'!E42 -> 0
A6: Total Infrastructure Costs (Sum of Lines 1-3) | B6: =SUM(B2:B4) -> 0
A8: Total De Minimis Allowance (5% of Line 6) | B8: =B6*5% -> 0
A9: Total Non-Compliant Costs | B9: ='Iron and Steel'!E27+'Construction Materials'!E44+'Manufactured Products'!E43 -> 0
A11: % of De Minimis Allowance Used | B11: =B9/B6 -> #DIV/0!
